BEGIN:VCALENDAR
VERSION:2.0
PRODID:-//Eetbare Woonwijk Rijnvliet - ECPv6.0.12//NONSGML v1.0//EN
CALSCALE:GREGORIAN
METHOD:PUBLISH
X-ORIGINAL-URL:https://www.eetbarewoonwijkrijnvliet.nl
X-WR-CALDESC:Evenementen voor Eetbare Woonwijk Rijnvliet
REFRESH-INTERVAL;VALUE=DURATION:PT1H
X-Robots-Tag:noindex
X-PUBLISHED-TTL:PT1H
BEGIN:VTIMEZONE
TZID:Europe/Amsterdam
BEGIN:DAYLIGHT
TZOFFSETFROM:+0100
TZOFFSETTO:+0200
TZNAME:CEST
DTSTART:20240331T010000
END:DAYLIGHT
BEGIN:STANDARD
TZOFFSETFROM:+0200
TZOFFSETTO:+0100
TZNAME:CET
DTSTART:20241027T010000
END:STANDARD
END:VTIMEZONE
BEGIN:VEVENT
DTSTART;TZID=Europe/Amsterdam:20240704T194500
DTEND;TZID=Europe/Amsterdam:20240704T210000
DTSTAMP:20260425T032459
CREATED:20240427T103603Z
LAST-MODIFIED:20240614T133647Z
UID:1056-1720122300-1720126800@www.eetbarewoonwijkrijnvliet.nl
SUMMARY:(Ver)ken je Voedselbos: Shipovalaan en Persimoenstraat
DESCRIPTION:Stap voor stap gaan we samen het voedselbos leren kennen met behulp van verschillende experts. Op 4 juli komt voedselboswachter Sarah Lugthart ons begeleiden door de Shipovalaan en Persimoenstraat om te leren wat er elke hoek van onze mooie voedselboswijk specifiek groeit. Per keer leren we een paar planten echt goed kennen aan de hand van speciaal gemaakt Rijnvliet Plantenkaartjes. \nWaar: verzamelen bij speeltuin Shipovapad\nWanneer: 4 juli\nTijd: 19:45 – 21:00\nBijdrage: €5 of betaal-wat-je-kunt of betaal-voor-een-ander*\nTickets: metaalkathedraal.nl/tickets\nMeenemen: telefoon en/of notitieboekje\, leeg tasje of bakje\, evt. plukgids \n*de standaardprijs is 5€ maar zit je even krap bij kas\, dan is dat geen probleem en draag je bij wat je zelf kan en wil bijdragen: niets/koekje bij de koffie/€2/etc. Schrijf je in door een mail te sturen naar voedselboswachter@metaalkathedraal.nl. Je mag er ook voor kiezen om (deels) voor een ander te betalen om te zorgen dat iedereen mee kan doen.
URL:https://www.eetbarewoonwijkrijnvliet.nl/activiteit/verken-je-voedselbos-shipovalaan-en-persimoenstraat/
ATTACH;FMTTYPE=image/jpeg:https://www.eetbarewoonwijkrijnvliet.nl/wp-content/uploads/2024/04/dscf5435-for-web.jpg
END:VEVENT
BEGIN:VEVENT
DTSTART;TZID=Europe/Amsterdam:20240707T100000
DTEND;TZID=Europe/Amsterdam:20240707T120000
DTSTAMP:20260425T032459
CREATED:20240427T104224Z
LAST-MODIFIED:20240614T134231Z
UID:1061-1720346400-1720353600@www.eetbarewoonwijkrijnvliet.nl
SUMMARY:Inmaken met Buur Silvia
DESCRIPTION:In juli is het voedselbos in volle glorie aan het groeien en bloeien en een mooie manier om dat te behouden is inmaken: een kruidige chutney of een frisse zoetzure pickle\, het kan allemaal. Of je nu een doorgewinterde inmaker bent of je het nog nooit hebt gedaan\, kom lekker mee doen en ga naar huis met potjes vol heerlijkheid. We verzamelen met onze lege potjes in de buitenkeuken met op het landgoed van de Metaal Kathedraal. Daarna gaan we samen plukken en onze oogst inmaken onder begeleiding van jullie eigen Buur Silvia en dan gaan jullie met volle potjes weer naar huis. \nWaar: Buitenkeuken Metaal Kathedraal & Rijnvliet\nWanneer: Zondag 7 juli\nTijd: 10:00\nMeenemen: lege potjes\, een schone theedoek en een leeg bakje/tasje voor het plukken\nBijdrage: €3\,50\nTickets: metaalkathedraal.nl/tickets \n*de standaardprijs is 3\,50€ maar zit je even krap bij kas\, dan is dat geen probleem en draag je bij wat je zelf kan en wil bijdragen: niets/koekje bij de koffie/€1/etc. Schrijf je in door een mail te sturen naar voedselboswachter@metaalkathedraal.nl. Je mag er ook voor kiezen om (deels) voor een ander te betalen om te zorgen dat iedereen mee kan doen.
URL:https://www.eetbarewoonwijkrijnvliet.nl/activiteit/inmaken-met-buur-silvia/
END:VEVENT
END:VCALENDAR