BEGIN:VCALENDAR
VERSION:2.0
PRODID:-//Eetbare Woonwijk Rijnvliet - ECPv6.0.12//NONSGML v1.0//EN
CALSCALE:GREGORIAN
METHOD:PUBLISH
X-WR-CALNAME:Eetbare Woonwijk Rijnvliet
X-ORIGINAL-URL:https://www.eetbarewoonwijkrijnvliet.nl
X-WR-CALDESC:Evenementen voor Eetbare Woonwijk Rijnvliet
REFRESH-INTERVAL;VALUE=DURATION:PT1H
X-Robots-Tag:noindex
X-PUBLISHED-TTL:PT1H
BEGIN:VTIMEZONE
TZID:Europe/Amsterdam
BEGIN:DAYLIGHT
TZOFFSETFROM:+0100
TZOFFSETTO:+0200
TZNAME:CEST
DTSTART:20240331T010000
END:DAYLIGHT
BEGIN:STANDARD
TZOFFSETFROM:+0200
TZOFFSETTO:+0100
TZNAME:CET
DTSTART:20241027T010000
END:STANDARD
END:VTIMEZONE
BEGIN:VEVENT
DTSTART;TZID=Europe/Amsterdam:20240609T143000
DTEND;TZID=Europe/Amsterdam:20240609T153000
DTSTAMP:20260425T045445
CREATED:20240427T102305Z
LAST-MODIFIED:20240529T084801Z
UID:1049-1717943400-1717947000@www.eetbarewoonwijkrijnvliet.nl
SUMMARY:(Ver)ken je Voedselbos met chef Mari van Kasvio
DESCRIPTION:Stap voor stap gaan we samen het voedselbos leren kennen met behulp van verschillende experts. Op 9 juni nodigt chef Mari Pitkänen van Kasvio jullie uit om samen te leren over wildpluk in alledaagse recepten. Samen met Mari ga je eerst de wijk in om te plukken en daarna heeft ze een aantal bereidingen uit haar restaurant Kasvio om te proeven en te ervaren wat je alledaags met je wildpluk zou kunnen doen. \nWaar: verzamelen bij Kasvio\nWanneer: 9 juni\nTijd: 14:30 – 15:30\nBijdrage: €5\nTickets: metaalkathedraal.nl/tickets\nMeenemen: telefoon en/of notitieboekje\, leeg tasje of bakje\, evt. plukgids
URL:https://www.eetbarewoonwijkrijnvliet.nl/activiteit/verken-je-voedselbos-met-chef-mari-van-kasvio/
LOCATION:Kasvio
ATTACH;FMTTYPE=image/webp:https://www.eetbarewoonwijkrijnvliet.nl/wp-content/uploads/2024/04/Portrait-Mari_Lian-Ilara-scaled.jpg.webp
END:VEVENT
BEGIN:VEVENT
DTSTART;TZID=Europe/Amsterdam:20240615T140000
DTEND;TZID=Europe/Amsterdam:20240615T160000
DTSTAMP:20260425T045445
CREATED:20240427T102532Z
LAST-MODIFIED:20240613T090506Z
UID:1052-1718460000-1718467200@www.eetbarewoonwijkrijnvliet.nl
SUMMARY:Jam maken met Buur Joost
DESCRIPTION:In juni is het bessenseizoen volop gaande en dat betekent natuurlijk jam. En wat is er leuker dan jam maken uit eigen wijk? Samen jam maken uit eigen wijk! Of je nu een doorgewinterde jam-maker bent of je het nog nooit hebt gedaan\, kom lekker mee doen en ga naar huis met heerlijke verse jam zoals je die nog nooit hebt geproefd. We verzamelen in de buitenkeuken op het landgoed van de Metaal Kathedraal met onze lege potjes. Daarna gaan we samen plukken en onze oogst verwerken tot jam onder begeleiding van jullie eigen Buurman Joost en dan gaan jullie met volle potjes weer naar huis. \nProgramma:\n14:00 uur: Verzamelen bij speeltuin Lotusvliet\n14:10 uur: Kennismaken en introductie\n14:10 – plm. 15:00 uur: Bessen plukken in de wijk\n15:00 – plm. 16:00 uur: Jam maken in de buitenkeuken van Metaalkathedraal\n16:00 uur: Proeven van onze zelfgemaakte jam! \nHet is ook mogelijk om bij een deel van de workshop aan te sluiten\, stuur mij dan even een berichtje \nWat neem je mee? \n\n🧤Handschoenen\n🥾Goede schoenen\n👖Lange mouwen & oude kleding (tegen vlekken en doornen)\n🫙Lege potjes met deksel (schoonmaken in kokend water of vaatwasser)\n✂️ Schaar om te knippen/plukken\nVergiet\nEen schone theedoek\n\nWaar? Buitenkeuken Metaal Kathedraal & Rijnvliet\nWie? Iedereen! Kinderen graag onder begeleiding\nWanneer? Zaterdag 15 juni\nHoe laat? 14:00\nMeenemen: lege potjes\, een schone theedoek en een leeg bakje/tasje voor het plukken\nBijdrage: €3\,50* en kinderen zijn gratis! (stuur Kim even een berichtje via app of voedselboswachter@metaalkathedraal.nl)\nTickets: metaalkathedraal.nl/tickets \n*de standaardprijs is 3\,50€ maar zit je even krap bij kas\, dan is dat geen probleem en draag je bij wat je zelf kan en wil bijdragen: niets/koekje bij de koffie/€1/etc. Schrijf je in door een mail te sturen naar voedselboswachter@metaalkathedraal.nl. Je mag er ook voor kiezen om (deels) voor een ander te betalen om te zorgen dat iedereen mee kan doen.
URL:https://www.eetbarewoonwijkrijnvliet.nl/activiteit/jam-maken-met-buur-joost/
LOCATION:Metaal Kathedraal\, Rijkstraatweg 20\, Utrecht\, Nederland
END:VEVENT
BEGIN:VEVENT
DTSTART;TZID=Europe/Amsterdam:20240618T190000
DTEND;TZID=Europe/Amsterdam:20240618T203000
DTSTAMP:20260425T045445
CREATED:20240614T101117Z
LAST-MODIFIED:20240618T121705Z
UID:1099-1718737200-1718742600@www.eetbarewoonwijkrijnvliet.nl
SUMMARY:Uitgesteld! Wijkmakerij 18 juni: samen de wijk nog mooier en leuker maken!
DESCRIPTION:Let op! Deze activiteit kan helaas niet doorgaan op de geplande datum. Volgende keer Wijkmakerij komt snel!\nKom meedenken over hoe een wijk zichzelf kan organiseren ten voordele van de inwoners van de wijk! Kijk maar naar Rijnvliet\, en je ziet al snel dat de wijk vol zit met een gigantische diversiteit aan talenten – hoe mooi zou het zijn als dat ook merkbaar is binnen de wijk en we bepaalde “zaken” ook gewoon binnen onze eigen wijk kunnen regelen/kopen/ruilen? Als we samen een of meerdere leuke verdienverdeelmodellen kunnen verzinnen in Rijnvliet kunnen we onszelf organiseren om de wijk leuker\, mooier\, eetbaarder\, gezelliger én ondernemender te maken. En tevens op een eenvoudige manier geld besparen! Dus kom op 18 juni om 19:00 naar de Metaal Kathedraal voor de vervolgsessie van Wijkmakerij voor Rijnvliet. Op 28 mei is er al veel inspiratie opgedaan dankzij een workshop van Carla Onderlinden\, waarvan hier een kort verslag te lezen is voor een goede indruk van wat we doen tijdens een avond Wijkmakerij. \nDatum: dinsdag 18 juni Tijd: 19:00 Locatie: Metaal Kathedraal Aanmelden: mail/app Kim (voedselboswachter@metaalkathedraal.nl) \nHet is geen probleem als je iets later wil aansluiten\, laat het even weten bij je aanmelding. 
URL:https://www.eetbarewoonwijkrijnvliet.nl/activiteit/wijkmakerij-samen-de-wijk-nog-mooier-en-leuker-maken/
LOCATION:Metaal Kathedraal\, Rijkstraatweg 20\, Utrecht\, Nederland
END:VEVENT
BEGIN:VEVENT
DTSTART;TZID=Europe/Amsterdam:20240628T184500
DTEND;TZID=Europe/Amsterdam:20240628T210000
DTSTAMP:20260425T045445
CREATED:20240613T091207Z
LAST-MODIFIED:20240613T091207Z
UID:1092-1719600300-1719608400@www.eetbarewoonwijkrijnvliet.nl
SUMMARY:Rijnvliet's Saladebar
DESCRIPTION:SALADEBAR uit eigen tuin en wijk \nKom naar de Wilde Rucolavliet voor een gezellige avond en een unieke Rijnvlietse saladebar waar je je eigen salade kunt samenstellen met ingrediënten uit je eigen en andermans tuin of uit de wijk/het voedselbos. Neem mee wat je hebt in je eigen tuin of wat je kan plukken in de wijk: sla\, kruiden\, rucola\, besjes\, etc. 🥬🌿. En neem je gezin mee.\nHeb je niets in je tuin? Geen probleem! Ingrediënten uit je koelkast of voorraadkast zijn ook welkom (denk aan pitjes/nootjes\, feta\, paprika\, etc.) 🥜🫑.\nWij zorgen voor extra ingrediënten zoals gesneden tomaten 🍅\, focaccia\, dressing en couscous. \nDatum: Vrijdag 28 juni\nTijd: Ontvangst vanaf 18.45 uur\nLocatie: Wilde Rucolavliet\nAanmelden: stuur een bericht naar Sanneke op 06 4730 6991 en geef aan met hoeveel personen je komt.
URL:https://www.eetbarewoonwijkrijnvliet.nl/activiteit/rijnvliets-saladebar/
ATTACH;FMTTYPE=image/jpeg:https://www.eetbarewoonwijkrijnvliet.nl/wp-content/uploads/2024/06/01-Rijnvliet_CentraalVoedselbos_collage-©-Felixx.jpg
END:VEVENT
BEGIN:VEVENT
DTSTART;TZID=Europe/Amsterdam:20240629T130000
DTEND;TZID=Europe/Amsterdam:20240629T143000
DTSTAMP:20260425T045445
CREATED:20240427T103359Z
LAST-MODIFIED:20240627T181440Z
UID:1054-1719666000-1719671400@www.eetbarewoonwijkrijnvliet.nl
SUMMARY:Uitgesteld: Wormenhotel maken met de Compostacademie
DESCRIPTION:Let op\, dit evenement vindt niet meer plaats op 29 juni. \nBijna 40% van wat we in de vuilnisbak gooien is vrij eenvoudig zelf om te zetten naar prachtige compost\, ook als je geen tuin hebt! Expert Peter Jan Brouwer van de Compostacademie komt ons niet alleen leren over compost\, maar ook begeleiden bij het maken van een eenvoudig wormenhotel. Met je zelfgemaakte wormenhotel kun je meteen thuis aan de slag met het maken van compost van zeer hoge kwaliteit. Wat zullen jouw (tuin)planten blij zijn! \nVoor het maken van het normenhotel moet je zelf drie gelijke emmertjes meenemen die in elkaar kunnen schuiven (10L of meer) Peter Jan zorgt voor de wormen\, startmateriaal en gereedschap. \nWaar: Landgoed achter Metaal Kathedraal\nWanneer: nader te bepalen!\nMeenemen: drie gelijke emmertjes van 10L of meer + eventueel een accuboormachine\nBijdrage: €25 of betaal-wat-je-kunt of betaal-voor-een-ander*\nVoor: alle leeftijden\, kinderen onder graag onder begeleiding \n*de standaardprijs is 25€ maar zit je even krap bij kas\, dan is dat geen probleem en draag je bij wat je zelf wil bijdragen (niets/koekje bij de koffie/€5/etc.). Kan je meer bijdragen dan is dat ook erg welkom! Je mag er ook voor kiezen om voor een ander te betalen om te zorgen dat iedereen mee kan doen.
URL:https://www.eetbarewoonwijkrijnvliet.nl/activiteit/wormenhotel-maken-met-de-compostacademie/
LOCATION:Metaal Kathedraal\, Rijkstraatweg 20\, Utrecht\, Nederland
END:VEVENT
END:VCALENDAR