BEGIN:VCALENDAR
VERSION:2.0
PRODID:-//Eetbare Woonwijk Rijnvliet - ECPv6.0.12//NONSGML v1.0//EN
CALSCALE:GREGORIAN
METHOD:PUBLISH
X-WR-CALNAME:Eetbare Woonwijk Rijnvliet
X-ORIGINAL-URL:https://www.eetbarewoonwijkrijnvliet.nl
X-WR-CALDESC:Evenementen voor Eetbare Woonwijk Rijnvliet
REFRESH-INTERVAL;VALUE=DURATION:PT1H
X-Robots-Tag:noindex
X-PUBLISHED-TTL:PT1H
BEGIN:VTIMEZONE
TZID:Europe/Amsterdam
BEGIN:DAYLIGHT
TZOFFSETFROM:+0100
TZOFFSETTO:+0200
TZNAME:CEST
DTSTART:20240331T010000
END:DAYLIGHT
BEGIN:STANDARD
TZOFFSETFROM:+0200
TZOFFSETTO:+0100
TZNAME:CET
DTSTART:20241027T010000
END:STANDARD
BEGIN:DAYLIGHT
TZOFFSETFROM:+0100
TZOFFSETTO:+0200
TZNAME:CEST
DTSTART:20250330T010000
END:DAYLIGHT
BEGIN:STANDARD
TZOFFSETFROM:+0200
TZOFFSETTO:+0100
TZNAME:CET
DTSTART:20251026T010000
END:STANDARD
END:VTIMEZONE
BEGIN:VEVENT
DTSTART;TZID=Europe/Amsterdam:20240924T180000
DTEND;TZID=Europe/Amsterdam:20240924T203000
DTSTAMP:20260425T130131
CREATED:20240918T074849Z
LAST-MODIFIED:20240919T124224Z
UID:1232-1727200800-1727209800@www.eetbarewoonwijkrijnvliet.nl
SUMMARY:Spelsessie Voedselbosspel van Txell
DESCRIPTION:Houd jij van bordspellen? Heb je zin om samen met ons een bordspel over jullie eetbare buurt te spelen en op deze manier te leren over alles wat er groeit? Spel is gratis en er wordt ook gekookt en gegeten\, aanmelden is daarom een must\, via een mail naar txell.blancodiaz@wur.nl \nZo ziet de avond op dinsdag 24 september eruit: \n18:00 Verzamelen bij de picknickbanken en samen plukken\n19:00 Spel begint terwijl we pizza eten met geplukte ingrediënten\n20:00 Tweede deel spel met toetje\n20:30 Spel eindigt \nDe winnaar mag het spel mee naar huis nemen! \nWe hopen je daar te zien! \n \n 
URL:https://www.eetbarewoonwijkrijnvliet.nl/activiteit/spelsessie-voedselbosspel-van-txell/
LOCATION:Metaal Kathedraal\, Rijkstraatweg 20\, Utrecht\, Nederland
ATTACH;FMTTYPE=image/jpeg:https://www.eetbarewoonwijkrijnvliet.nl/wp-content/uploads/2024/09/WhatsApp-Image-2024-09-19-at-14.10.41.jpeg
END:VEVENT
BEGIN:VEVENT
DTSTART;TZID=Europe/Amsterdam:20240925T100000
DTEND;TZID=Europe/Amsterdam:20240925T160000
DTSTAMP:20260425T130131
CREATED:20240919T135634Z
LAST-MODIFIED:20240919T160930Z
UID:1243-1727258400-1727280000@www.eetbarewoonwijkrijnvliet.nl
SUMMARY:Hooien met stadsboer Dirk en zijn paard en wagen
DESCRIPTION:foto © Jasper Witte / RTV Utrecht \nStadsboer Dirk gaat maandagochtend 23 september met een messenbalk rondom voedselbos Rijnvliet kleinschalig ecologisch maaien. Met een messenbalk knipt hij de uitgebloeide wilde planten af. Woensdag 25 september tussen 10.00 en 16.00 uur komt hij met een Gelders paard (zo’n zwart paard met witte sokjes) en platte wagen om samen met kinderen en ouders te gaan hooien. De uitgebloeide planten worden bij elkaar geharkt en afgevoerd naar de compostering. Daar wordt er bomengrond van gemaakt\, voor de bomen in de stad die nog aangeplant moeten worden. Een mooie kringloop om aan samen te werken. Komen jullie ook?  \n* Deze activiteit gaan door als het weer voldoende is\, want het moet wel leuk blijven voor het paard. 
URL:https://www.eetbarewoonwijkrijnvliet.nl/activiteit/hooien-met-stadsboer-dirk-en-zijn-paard-en-wagen/
LOCATION:Voedselbos bij Kindcentrum Rijnvliet\, Pecanlaan 50\, Utrecht\, 3545 CJ\, Nederland
ATTACH;FMTTYPE=image/jpeg:https://www.eetbarewoonwijkrijnvliet.nl/wp-content/uploads/2024/09/stadsboer-Dirk-c-Jasper-Witte-RTV-Utrecht.jpg
END:VEVENT
BEGIN:VEVENT
DTSTART;TZID=Europe/Amsterdam:20240927T170000
DTEND;TZID=Europe/Amsterdam:20240927T190000
DTSTAMP:20260425T130131
CREATED:20240904T064223Z
LAST-MODIFIED:20240918T140924Z
UID:1222-1727456400-1727463600@www.eetbarewoonwijkrijnvliet.nl
SUMMARY:Super Shipovalaan Straat Proeverij 2024
DESCRIPTION:Op 27 September vindt in de Shipovalaan in de Eetbare woonwijk Rijnvliet de Super Shipovalaan Straat Proeverij plaats. Van 17.00 tot 19.00 uur presenteren en delen buurtbewoners gerechten en recepten met elkaar die gemaakt zijn van de oogst uit de eigen wijk. Kom\, doe mee\, ontmoet en proef zelf de smaken van Rijnvliet! \n\n\n\nUitnodiging! \nIedereen uit de buurt is uitgenodigd om op vrijdag 27 september tussen 17.00 en 19.00 uur deel te nemen aan de Super Shipovalaan Straat Proeverij! Gratis. \nWaar? \nIn de Shipovalaan tussen de Honingbesstraat en de Zoete Viburnumstraat proef je aan 10 tafels gerechten en recepten van oogst uit je eigen buurt terwijl je kennis maakt met je buren en de vele verschillende smaken van de buurt. \nWat gaan we doen? \nAan 10 tafels worden 10 gerechten bereidt die iedereen kan proeven. Er vinden bijzondere ontmoetingen plaats tussen bewoners en experts\, specialisten\, kenners\, koks en tuiniers met ervaring in stadslandbouw\, lokale voedselproductie\, voedselbereiding en mogelijke organisatievormen van voedseldeelsystemen. \nDoe mee! \nMisschien wil jij ook wel een eigen gerecht maken of een recept delen tijdens de Straat Proeverij\, meld je dan aan bij ons. \nOf laat je verrassen op vrijdag 27 september tussen 17.00 en 19.00 uur tijdens de Super Shipovalaan Straat Proeverij 2024! Tot dan! \n\n\nInformatie \nVoor aanmelding of informatie bel Fiona op 0652606667 of mail info@cascoland.com \nDit project is onderdeel van CULTIVATE: www.cultivate-project.eu
URL:https://www.eetbarewoonwijkrijnvliet.nl/activiteit/eindevenement-cascoland-buurtkoks-op-straat/
ATTACH;FMTTYPE=image/jpeg:https://www.eetbarewoonwijkrijnvliet.nl/wp-content/uploads/2024/08/IMG_0232-scaled-1.jpg
END:VEVENT
BEGIN:VEVENT
DTSTART;TZID=Europe/Amsterdam:20250615T100000
DTEND;TZID=Europe/Amsterdam:20250615T123000
DTSTAMP:20260425T130131
CREATED:20250607T130421Z
LAST-MODIFIED:20250607T130537Z
UID:1266-1749981600-1749990600@www.eetbarewoonwijkrijnvliet.nl
SUMMARY:Plukwandeling en Workshop jam maken
DESCRIPTION:Op 15 juni is er een plukwandeling en workshop jam maken in Rijnvliet. \nDe wandeling is van 10.00 tot 11.00 uur en de workshop van 11.00 tot 12.30 uur. \nNeem een tasje mee voor het plukken en eventueel snoeischaar met handschoenen.
URL:https://www.eetbarewoonwijkrijnvliet.nl/activiteit/plukwandeling-en-workshop-jam-maken/
LOCATION:Voedselbos Rijnvliet\, Utrecht\, Nederland
ATTACH;FMTTYPE=image/jpeg:https://www.eetbarewoonwijkrijnvliet.nl/wp-content/uploads/2025/06/IMG-20250607-WA0000.jpg
END:VEVENT
END:VCALENDAR