BEGIN:VCALENDAR
VERSION:2.0
PRODID:-//Eetbare Woonwijk Rijnvliet - ECPv6.0.12//NONSGML v1.0//EN
CALSCALE:GREGORIAN
METHOD:PUBLISH
X-WR-CALNAME:Eetbare Woonwijk Rijnvliet
X-ORIGINAL-URL:https://www.eetbarewoonwijkrijnvliet.nl
X-WR-CALDESC:Evenementen voor Eetbare Woonwijk Rijnvliet
REFRESH-INTERVAL;VALUE=DURATION:PT1H
X-Robots-Tag:noindex
X-PUBLISHED-TTL:PT1H
BEGIN:VTIMEZONE
TZID:Europe/Amsterdam
BEGIN:DAYLIGHT
TZOFFSETFROM:+0100
TZOFFSETTO:+0200
TZNAME:CEST
DTSTART:20230326T010000
END:DAYLIGHT
BEGIN:STANDARD
TZOFFSETFROM:+0200
TZOFFSETTO:+0100
TZNAME:CET
DTSTART:20231029T010000
END:STANDARD
END:VTIMEZONE
BEGIN:VEVENT
DTSTART;TZID=Europe/Amsterdam:20230617T100000
DTEND;TZID=Europe/Amsterdam:20230617T160000
DTSTAMP:20260425T143042
CREATED:20230516T095114Z
LAST-MODIFIED:20230522T140858Z
UID:629-1686996000-1687017600@www.eetbarewoonwijkrijnvliet.nl
SUMMARY:Dag van de Architectuur
DESCRIPTION:Kijk eens met een andere bril naar de stad en kom meer te weten over het ontwerp van onze leefomgeving! Op de Dag van de Architectuur in Utrecht staan de nieuwste en meest bijzondere gebouwen\, bouwprojecten en gebiedsontwikkelingen\, zowel groot als klein\, vol in de schijnwerpers. Het thema dit jaar is: toegankelijkheid. Hoe zorgen ontwerpers\, bouwers en ontwikkelaars ervoor dat architectuur (en het ontwerpproces) gastvrij en inclusief is? \nEr is voor iedereen wat te doen. Zo kun je op verschillende plekken in Utrecht een kijkje nemen in recent opgeleverde gebouwen of bij projecten die nog in ontwikkeling zijn. Architecten en andere betrokkenen vertellen wat van alles over het ontwerp en de relatie met het thema toegankelijkheid. In aanloop naar de dag kun je bovendien op werkdagen in het stadhuis op bezoek bij de expositie Utrecht stad voor iedereen\, waar de toegankelijkheid van verschillende (bouw)projecten wordt belicht. \nHet complete programma is nog in voorbereiding. Ook op locatie Rijnvliet zullen er activiteiten zijn.\nHou de Dag van de Achitectuur hier in de gaten. \n 
URL:https://www.eetbarewoonwijkrijnvliet.nl/activiteit/dag-van-de-architectuur/
LOCATION:Woonwijk Rijnvliet
ATTACH;FMTTYPE=image/jpeg:https://www.eetbarewoonwijkrijnvliet.nl/wp-content/uploads/2023/05/dag-van-de-architectuur.jpg
END:VEVENT
BEGIN:VEVENT
DTSTART;TZID=Europe/Amsterdam:20230611T120000
DTEND;TZID=Europe/Amsterdam:20230611T180000
DTSTAMP:20260425T143042
CREATED:20230522T130252Z
LAST-MODIFIED:20230522T140828Z
UID:658-1686484800-1686506400@www.eetbarewoonwijkrijnvliet.nl
SUMMARY:Actiedag Groen moet je Doen!
DESCRIPTION:Utrecht Natuurlijk\, BuurtNatuur030 en stg GroenmoetjeDoen! organiseren dit jaar weer de actiedag voor de groene zelfbeheer locaties van stad Utrecht.\nNoteer 🖊 de GMJD!-dag vast in je agenda op: zondag 11 juni 2023 \nOp een groot aantal groene zelfbeheerlocaties en locaties van Utrecht Natuurlijk worden er tussen 12.00 en 18.00 uur verschillende activiteiten georganiseerd rondom het centrale thema van dit jaar: \n“het klimaatbestendig maken van je groene omgeving“\nHoe maken we van Utrecht een grote verbinding van het openbaar groen en blauw door de hele stad? Zodat de bewoners in een gezonde groene stad leven die klaar is voor de klimaatadaptatie? Bij dit thema passen zowel geveltuinen en boomspiegels als andere groene zelfbeheer projecten.
URL:https://www.eetbarewoonwijkrijnvliet.nl/activiteit/actiedag-groen-moet-je-doen/
LOCATION:Woonwijk Rijnvliet
ATTACH;FMTTYPE=image/jpeg:https://www.eetbarewoonwijkrijnvliet.nl/wp-content/uploads/2019/06/Eetbare-Woonwijk-Rijnvliet-foto-door-Food-Forestry.jpg
END:VEVENT
BEGIN:VEVENT
DTSTART;TZID=Europe/Amsterdam:20230522T190000
DTEND;TZID=Europe/Amsterdam:20230522T210000
DTSTAMP:20260425T143042
CREATED:20230516T092212Z
LAST-MODIFIED:20230522T140844Z
UID:617-1684782000-1684789200@www.eetbarewoonwijkrijnvliet.nl
SUMMARY:Initiatieven Avond
DESCRIPTION:Uitnodiging informatieavond groen in Rijnvliet voor buurtbewoners \nIn Rijnvliet is veel groen buiten eetbaar. We ontvangen steeds meer vragen van bewoners die hier wat mee\nwillen doen. Daarom organiseren we op maandag 22 mei een informatieavond over het groen in Rijnvliet.\nTijdens deze avond kunt u uw ideeën presenteren en ideeën van anderen horen. Ook presenteren wij de\nvoedselboswachter. U bent van harte welkom. \nWilt u wat doen met het eetbaar groen?\nDe informatieavond is voor bewoners die samen met\nburen iets willen doen met het eetbare groen in de\nbuurt. Bijvoorbeeld jam maken\, een plukdag\norganiseren of een kookworkshop doen. Er zijn al\nideeën bij ons bekend waar u bij aan kunt sluiten. Ook\nis er ruimte voor nieuwe ideeën. \nWanneer: 22 mei van 19.00 uur tot en met 20.30 uur\nWaar: Kindcentrum Rijnvliet\, Pecanlaan 50 \nProgramma:\n 18.45 uur Inloop\n 19.00 uur Welkom\n 19.15 uur Presentatie voedselboswachter\n 19.30 uur Presentatie ingediende ideeën\n 19.45 uur Ruimte voor andere ideeën\n 20.30 uur Ruimte om na te praten\n 21.00 uur Afsluiten \nRijnvliet heeft een voedselboswachter\nRijnvliet heeft nu ook een eigen voedselboswachter!\nDit is Annelies van Rijn. Zij werkt als voedseljuf op het\nKindcentrum Rijnvliet. Haar taak is om mensen in de\nbuurt met elkaar in contact te brengen en samen iets\nmet het eetbare groen te doen. Zij gaat ook activiteiten\norganiseren zodat mensen leren over het groen in\nRijnvliet en weten hoe bijzonder het is. Tijdens de\ninformatieavond vertellen we meer hierover.
URL:https://www.eetbarewoonwijkrijnvliet.nl/activiteit/initiatieven-avond/
ATTACH;FMTTYPE=image/png:https://www.eetbarewoonwijkrijnvliet.nl/wp-content/uploads/2023/05/initiatievenavond-vierkant-1.png
END:VEVENT
END:VCALENDAR