BEGIN:VCALENDAR
VERSION:2.0
PRODID:-//Eetbare Woonwijk Rijnvliet - ECPv6.0.12//NONSGML v1.0//EN
CALSCALE:GREGORIAN
METHOD:PUBLISH
X-ORIGINAL-URL:https://www.eetbarewoonwijkrijnvliet.nl
X-WR-CALDESC:Evenementen voor Eetbare Woonwijk Rijnvliet
REFRESH-INTERVAL;VALUE=DURATION:PT1H
X-Robots-Tag:noindex
X-PUBLISHED-TTL:PT1H
BEGIN:VTIMEZONE
TZID:Europe/Amsterdam
BEGIN:DAYLIGHT
TZOFFSETFROM:+0100
TZOFFSETTO:+0200
TZNAME:CEST
DTSTART:20240331T010000
END:DAYLIGHT
BEGIN:STANDARD
TZOFFSETFROM:+0200
TZOFFSETTO:+0100
TZNAME:CET
DTSTART:20241027T010000
END:STANDARD
END:VTIMEZONE
BEGIN:VEVENT
DTSTART;VALUE=DATE:20240902
DTEND;VALUE=DATE:20240928
DTSTAMP:20260425T014715
CREATED:20240718T132806Z
LAST-MODIFIED:20240718T132806Z
UID:1161-1725235200-1727481599@www.eetbarewoonwijkrijnvliet.nl
SUMMARY:Cascoland in Rijnvliet 2024
DESCRIPTION:Net als vorig jaar komt Cascoland weer de gehele maand september naar Rijnvliet! Heel september zal er doordeweeks van alles te doen\, te plukken en te proeven zijn. \nLees hier een kort verslag van vorig jaar om een indruk te krijgen van het werk van Cascoland of bekijk hieronder een videoverslag:
URL:https://www.eetbarewoonwijkrijnvliet.nl/activiteit/cascoland-in-rijnvliet-2024/
END:VEVENT
BEGIN:VEVENT
DTSTART;TZID=Europe/Amsterdam:20240917T173000
DTEND;TZID=Europe/Amsterdam:20240917T183000
DTSTAMP:20260425T014715
CREATED:20240904T063715Z
LAST-MODIFIED:20240904T063715Z
UID:1217-1726594200-1726597800@www.eetbarewoonwijkrijnvliet.nl
SUMMARY:Pizza bakken met Cascoland
DESCRIPTION:Cascoland is er er weer! De hele maand september komen ze graag met iedereen uit de wijk samenwerken om Eetbare Woonwijk Rijnvliet verder vorm te geven & mee te bouwen aan een zelfvoorzienende en eetbare wijk! Er is al veel voorwerk gedaan door iedereen en een oproep voor stadsboer is verspreid! Ze kijken er erg naar uit iedereen weer te ontmoeten! \nBak je mee? De eerste week én alle dinsdagen in september van 17:30 tot 18:30 staan we bij de entree van het voedselbospark bij de picknickbanken! Kom je een pizza en een praatje maken? \nJe kan deze maand iedere dag langskomen voor een praatje\, het delen van ideeën\, vragen en voorstellen etc!
URL:https://www.eetbarewoonwijkrijnvliet.nl/activiteit/pizza-bakken-met-cascoland-6/
ATTACH;FMTTYPE=image/jpeg:https://www.eetbarewoonwijkrijnvliet.nl/wp-content/uploads/2024/09/WhatsApp-Image-2024-09-03-at-18.13.30-e1725431816944.jpeg
END:VEVENT
END:VCALENDAR