BEGIN:VCALENDAR
VERSION:2.0
PRODID:-//Eetbare Woonwijk Rijnvliet - ECPv6.0.12//NONSGML v1.0//EN
CALSCALE:GREGORIAN
METHOD:PUBLISH
X-ORIGINAL-URL:https://www.eetbarewoonwijkrijnvliet.nl
X-WR-CALDESC:Evenementen voor Eetbare Woonwijk Rijnvliet
REFRESH-INTERVAL;VALUE=DURATION:PT1H
X-Robots-Tag:noindex
X-PUBLISHED-TTL:PT1H
BEGIN:VTIMEZONE
TZID:Europe/Amsterdam
BEGIN:DAYLIGHT
TZOFFSETFROM:+0100
TZOFFSETTO:+0200
TZNAME:CEST
DTSTART:20240331T010000
END:DAYLIGHT
BEGIN:STANDARD
TZOFFSETFROM:+0200
TZOFFSETTO:+0100
TZNAME:CET
DTSTART:20241027T010000
END:STANDARD
END:VTIMEZONE
BEGIN:VEVENT
DTSTART;TZID=Europe/Amsterdam:20240828T190000
DTEND;TZID=Europe/Amsterdam:20240828T203000
DTSTAMP:20260425T013108
CREATED:20240725T115218Z
LAST-MODIFIED:20240813T073006Z
UID:1164-1724871600-1724877000@www.eetbarewoonwijkrijnvliet.nl
SUMMARY:(Ver)ken je Voedselbos: Fladderiepvliet & Pecanlaan + miniproeverij
DESCRIPTION:Stap voor stap gaan we samen het voedselbos leren kennen met behulp van verschillende experts. Op 28 augustus verdiepen we ons in de Fladderiepvliet en Pecanlaan om te leren wat er in elke hoek van onze mooie voedselboswijk specifiek groeit. Per keer leren we een paar planten echt goed kennen aan de hand van plantenkaartjes. Tijdens de voedselboswandeling zal er ook het een en ander te proeven zijn als voorbeeld van wat je allemaal wel niet kunt met de oogst uit Rijnvliet. \nDeze voedselbosverkenning en miniproeverij wordt begeleid door onze nieuwste expert: Erna de Jong. Erna weet ontzettend veel van alles wat groen is en groeit: van moestuin tot voedselbos en daar voorbij. Ze is ook werkzaam bij stadsboerderij Steede Hoge Woerd bij Castellum waar ze de tuinen onder haar hoede heeft en beheert met een hele leuke diverse groep mensen. \nWaar: verzamelen bij de Zonnewijzer tegenover de school\nWanneer: 28 augustus\nTijd: 19:00 – 20:30\nBijdrage: €5 of betaal-wat-je-kunt of betaal-voor-een-ander*\nAanmelden: mail naar voedselboswachter@metaalkathedraal.nl of app Kim\nMeenemen: telefoon en/of notitieboekje\, leeg tasje of bakje\, evt. plukgids \n*de standaardprijs is 5€ maar zit je even krap bij kas\, dan is dat geen probleem en draag je bij wat je zelf kan en wil bijdragen: niets/koekje bij de koffie/€2/etc. Schrijf je in door een mail te sturen naar voedselboswachter@metaalkathedraal.nl. Je mag er ook voor kiezen om (deels) voor een ander te betalen om te zorgen dat iedereen mee kan doen. 
URL:https://www.eetbarewoonwijkrijnvliet.nl/activiteit/verken-je-voedselbos-fladderiepvliet-pecanlaan-miniproeverij/
LOCATION:Zonnewijzer\, Pecanlaan 50\, Utrecht
ATTACH;FMTTYPE=image/jpeg:https://www.eetbarewoonwijkrijnvliet.nl/wp-content/uploads/2024/07/IMG_1774-scaled-e1721908377982.jpg
END:VEVENT
END:VCALENDAR